BEGIN:VCALENDAR
VERSION:2.0
PRODID:icalendar-ruby
CALSCALE:GREGORIAN
METHOD:PUBLISH
BEGIN:VEVENT
DTSTAMP:20260424T135254Z
UID:207-450046@gracelovesoconee.com
DTSTART:20260426T160000Z
DTEND:20260426T180000Z
CLASS:PUBLIC
CREATED:20260423T135952
DESCRIPTION:Youth Day\nSunday\, Apr. 26\, after service.  Lunch and Axe Th
 rowing!  We will meet in the youth room for pizza.  Rides will be provid
 ed for the kids to Timber Ridge. The church will pay for the axe-throwing\
 , but if they want something else\, they need to bring their own money. Pa
 rents can pick their kids up at Timber Ridge. We should be done around 2 o
 ’clock.\n 
LAST-MODIFIED:20260423T135952
LOCATION:15195 Wells Hwy.Seneca\, SC 29678
SUMMARY:Youth Day
URL;VALUE=URI:https://www.gracelovesoconee.com/events/youth-day/2026-04-26
ATTACH;FILENAME=Slide35.JPG;FMTTYPE=image/jpeg:https://dq5pwpg1q8ru0.cloudf
 ront.net/2026/04/23/17/59/52/cc0870f3-5233-41c7-a185-fd8e29a5dc0f/Slide35.
 JPG
END:VEVENT
END:VCALENDAR
